BEGIN:VCALENDAR
VERSION:2.0
PRODID:-//Library Market//iCal Export//EN
BEGIN:VEVENT
SUMMARY:AP Seminar - Abigail
UID:155099
DTSTAMP:20260421T145100Z
DTSTART:20260415T213000Z
DTEND:20260415T220000Z
LOCATION:55 Vanderbilt Parkway, Dix Hills, NY 11746, United States
ROOM: Main Street Meeting Room 223 (Podcast Room)
DESCRIPTION:for AP seminar
URL:https://www.hhhlibrary.org/event/ap-seminar-155099
END:VEVENT
END:VCALENDAR
