BEGIN:VCALENDAR
VERSION:2.0
PRODID:-//Library Market//iCal Export//EN
BEGIN:VEVENT
SUMMARY:Bridge Practice - Elaine
UID:155114
DTSTAMP:20260421T155800Z
DTSTART:20260505T194500Z
DTEND:20260505T214500Z
LOCATION:510 Sweet Hollow Road, Melville, NY 11747, United States
ROOM: Branch at Melville Meeting Room
DESCRIPTION:Practice playing games of Bridge.
URL:https://www.hhhlibrary.org/event/bridge-practice-155114
END:VEVENT
END:VCALENDAR
