BEGIN:VCALENDAR
VERSION:2.0
PRODID:-//Library Market//iCal Export//EN
BEGIN:VEVENT
SUMMARY:Girl Scout Troop 1039
UID:155116
DTSTAMP:20260421T155800Z
DTSTART:20260507T213000Z
DTEND:20260507T233000Z
LOCATION:510 Sweet Hollow Road, Melville, NY 11747, United States
ROOM: Branch at Melville Meeting Room
DESCRIPTION:Girl Scout troop 1039 monthly meeting
URL:https://www.hhhlibrary.org/event/girl-scout-troop-1039-155116
END:VEVENT
END:VCALENDAR
