BEGIN:VCALENDAR
VERSION:2.0
PRODID:-//Library Market//iCal Export//EN
BEGIN:VEVENT
SUMMARY:Women&#039;s Connection - Barbara G
UID:155118
DTSTAMP:20260421T155800Z
DTSTART:20260602T170000Z
DTEND:20260602T190000Z
LOCATION:55 Vanderbilt Parkway, Dix Hills, NY 11746, United States
ROOM: Meeting Room 313 (The Coltrane Room)
DESCRIPTION:Discussion Group
URL:https://www.hhhlibrary.org/event/ms-barbara-greenberg-155118
END:VEVENT
END:VCALENDAR
