BEGIN:VCALENDAR
VERSION:2.0
PRODID:-//Library Market//iCal Export//EN
BEGIN:VEVENT
SUMMARY:Mahjong Game - Scott
UID:155121
DTSTAMP:20260421T171500Z
DTSTART:20260629T224500Z
DTEND:20260630T004500Z
LOCATION:55 Vanderbilt Parkway, Dix Hills, NY 11746, United States
ROOM: Main Street Meeting Room 223 (Podcast Room)
DESCRIPTION:Mahjong game
URL:https://www.hhhlibrary.org/event/scotttutoring-155121
END:VEVENT
END:VCALENDAR
