BEGIN:VCALENDAR
VERSION:2.0
PRODID:-//Library Market//iCal Export//EN
BEGIN:VEVENT
SUMMARY:AP Research Practice POD - Jai
UID:155122
DTSTAMP:20260421T131900Z
DTSTART:20260420T211500Z
DTEND:20260421T001500Z
LOCATION:55 Vanderbilt Parkway, Dix Hills, NY 11746, United States
ROOM: Meeting Room 313 (The Coltrane Room)
DESCRIPTION:Presentation
URL:https://www.hhhlibrary.org/event/ap-research-practice-pod-155122
END:VEVENT
END:VCALENDAR
