BEGIN:VCALENDAR
VERSION:2.0
PRODID:-//Library Market//iCal Export//EN
BEGIN:VEVENT
SUMMARY:AP Research Students - John
UID:155124
DTSTAMP:20260421T145100Z
DTSTART:20260418T171500Z
DTEND:20260418T201500Z
LOCATION:55 Vanderbilt Parkway, Dix Hills, NY 11746, United States
ROOM: Main Street Meeting Room 223 (Podcast Room)
DESCRIPTION:AP Research students rehearsing their presentation.
URL:https://www.hhhlibrary.org/event/ap-research-students-155124
END:VEVENT
END:VCALENDAR
