BEGIN:VCALENDAR
VERSION:2.0
PRODID:-//Library Market//iCal Export//EN
BEGIN:VEVENT
SUMMARY:Greens Snowbirds
UID:155140
DTSTAMP:20260421T155800Z
DTSTART:20260518T200000Z
DTEND:20260518T210000Z
LOCATION:510 Sweet Hollow Road, Melville, NY 11747, United States
ROOM: Branch at Melville Meeting Room
DESCRIPTION:Regular meeting
URL:https://www.hhhlibrary.org/event/greens-snowburds-155140
END:VEVENT
END:VCALENDAR
