BEGIN:VCALENDAR
VERSION:2.0
PRODID:-//Library Market//iCal Export//EN
BEGIN:VEVENT
SUMMARY:Encouraging Notes for Pediatric Patients
UID:155144
DTSTAMP:20260421T131900Z
DTSTART:20260425T173000Z
DTEND:20260425T183000Z
LOCATION:55 Vanderbilt Parkway, Dix Hills, NY 11746, United States
ROOM: Meeting Room 313 (The Coltrane Room)
DESCRIPTION:Going to make encouraging card and notes for pediatric patient
 s.
URL:https://www.hhhlibrary.org/event/encouraging-notes-pediatric-patients-
 155144
END:VEVENT
END:VCALENDAR
