BEGIN:VCALENDAR
VERSION:2.0
PRODID:-//Library Market//iCal Export//EN
BEGIN:VEVENT
SUMMARY:Encouraging Notes and Cards for Pediatric Patients
UID:155145
DTSTAMP:20260421T131900Z
DTSTART:20260421T203000Z
DTEND:20260421T223000Z
LOCATION:55 Vanderbilt Parkway, Dix Hills, NY 11746, United States
ROOM: Main Street Meeting Room 223 (Podcast Room)
DESCRIPTION:Writing encouraging notes for pediatric patients,
URL:https://www.hhhlibrary.org/event/encouraging-notes-and-cards-pediatric
 -patients-155145
END:VEVENT
END:VCALENDAR
