BEGIN:VCALENDAR
VERSION:2.0
PRODID:-//Library Market//iCal Export//EN
BEGIN:VEVENT
SUMMARY:AP Seminar - Avital
UID:155148
DTSTAMP:20260421T131900Z
DTSTART:20260420T180000Z
DTEND:20260420T193000Z
LOCATION:55 Vanderbilt Parkway, Dix Hills, NY 11746, United States
ROOM: Meeting Room 314
DESCRIPTION:practice presentation
URL:https://www.hhhlibrary.org/event/ap-seminar-155148
END:VEVENT
END:VCALENDAR
