BEGIN:VCALENDAR
VERSION:2.0
PRODID:-//Library Market//iCal Export//EN
BEGIN:VEVENT
SUMMARY:We Hear You Group Meeting
UID:155156
DTSTAMP:20260421T131900Z
DTSTART:20260425T180000Z
DTEND:20260425T204500Z
LOCATION:55 Vanderbilt Parkway, Dix Hills, NY 11746, United States
ROOM: Meeting Room 314
DESCRIPTION:Support group for families of children who are deaf and hard-o
 f-hearing
URL:https://www.hhhlibrary.org/event/we-hear-you-get-together-155156
END:VEVENT
END:VCALENDAR
