BEGIN:VCALENDAR
VERSION:2.0
PRODID:-//Library Market//iCal Export//EN
BEGIN:VEVENT
SUMMARY:Girl Scout Troop 701
UID:155158
DTSTAMP:20260421T155800Z
DTSTART:20260522T213000Z
DTEND:20260522T223000Z
LOCATION:55 Vanderbilt Parkway, Dix Hills, NY 11746, United States
ROOM: Meeting Room 314
DESCRIPTION:Troop meeting
URL:https://www.hhhlibrary.org/event/girl-scout-troop-701-155158
END:VEVENT
END:VCALENDAR
