BEGIN:VCALENDAR
VERSION:2.0
PRODID:-//Library Market//iCal Export//EN
BEGIN:VEVENT
SUMMARY:Scouting America 2026 National Jamboree Contingent Meeting
UID:155160
DTSTAMP:20260421T173300Z
DTSTART:20260618T233000Z
DTEND:20260619T003000Z
LOCATION:55 Vanderbilt Parkway, Dix Hills, NY 11746, United States
ROOM: Multipurpose Room 214
DESCRIPTION:Scouting Troop meeting
URL:https://www.hhhlibrary.org/event/scouting-america-2026-national-jambor
 ee-contingent-meeting-155160
END:VEVENT
END:VCALENDAR
