BEGIN:VCALENDAR
VERSION:2.0
PRODID:-//Library Market//iCal Export//EN
BEGIN:VEVENT
SUMMARY:Canasta Play - Stacey
UID:155161
DTSTAMP:20260421T174100Z
DTSTART:20260609T164500Z
DTEND:20260609T194500Z
LOCATION:55 Vanderbilt Parkway, Dix Hills, NY 11746, United States
ROOM: Meeting Room 313 (The Coltrane Room)
DESCRIPTION:Canasta Play
URL:https://www.hhhlibrary.org/event/canasta-play-155161
END:VEVENT
END:VCALENDAR
