BEGIN:VCALENDAR
VERSION:2.0
PRODID:-//Library Market//iCal Export//EN
BEGIN:VEVENT
SUMMARY:Canasta Play - Stacey
UID:155162
DTSTAMP:20260421T171500Z
DTSTART:20260616T164500Z
DTEND:20260616T194500Z
LOCATION:55 Vanderbilt Parkway, Dix Hills, NY 11746, United States
ROOM: Meeting Room 313 (The Coltrane Room)
DESCRIPTION:Canasta Play
URL:https://www.hhhlibrary.org/event/canasta-play-155162
END:VEVENT
END:VCALENDAR
