BEGIN:VCALENDAR
VERSION:2.0
PRODID:-//Library Market//iCal Export//EN
BEGIN:VEVENT
SUMMARY:Girl Scout Troop 70 Meeting
UID:155167
DTSTAMP:20260421T171500Z
DTSTART:20260615T220000Z
DTEND:20260616T000000Z
LOCATION:55 Vanderbilt Parkway, Dix Hills, NY 11746, United States
ROOM: Meeting Room 313 (The Coltrane Room)
DESCRIPTION:Monthly/General
URL:https://www.hhhlibrary.org/event/gs-troop-70-meeting-155167
END:VEVENT
END:VCALENDAR
