BEGIN:VCALENDAR
VERSION:2.0
PRODID:-//Library Market//iCal Export//EN
BEGIN:VEVENT
SUMMARY:AP Seminar Presentation Practice - Peyton
UID:155168
DTSTAMP:20260421T131900Z
DTSTART:20260422T183000Z
DTEND:20260422T213000Z
LOCATION:55 Vanderbilt Parkway, Dix Hills, NY 11746, United States
ROOM: Meeting Room 314
DESCRIPTION:Practice presenting and fixing IWA presentations for A.P. semi
 nar
URL:https://www.hhhlibrary.org/event/ap-seminar-155168
END:VEVENT
END:VCALENDAR
