BEGIN:VCALENDAR
VERSION:2.0
PRODID:-//Library Market//iCal Export//EN
BEGIN:VEVENT
SUMMARY:AP Seminar Presentation Practice - Harjot
UID:155170
DTSTAMP:20260421T145100Z
DTSTART:20260427T203000Z
DTEND:20260427T233000Z
LOCATION:55 Vanderbilt Parkway, Dix Hills, NY 11746, United States
ROOM: Main Street Meeting Room 223 (Podcast Room)
DESCRIPTION:Meeting to present and fix IWA presentations for A.P. seminar
URL:https://www.hhhlibrary.org/event/ap-seminar-155170
END:VEVENT
END:VCALENDAR
