BEGIN:VCALENDAR
VERSION:2.0
PRODID:-//Library Market//iCal Export//EN
BEGIN:VEVENT
SUMMARY:AP Seminar Presentation Practice - Harish
UID:155173
DTSTAMP:20260421T131900Z
DTSTART:20260422T203000Z
DTEND:20260422T220000Z
LOCATION:55 Vanderbilt Parkway, Dix Hills, NY 11746, United States
ROOM: Meeting Room 313 (The Coltrane Room)
DESCRIPTION:IWA presentation and edit
URL:https://www.hhhlibrary.org/event/ap-sem-155173
END:VEVENT
END:VCALENDAR
