BEGIN:VCALENDAR
VERSION:2.0
PRODID:-//Library Market//iCal Export//EN
BEGIN:VEVENT
SUMMARY:AP Seminar IMP - Grace
UID:155185
DTSTAMP:20260421T131900Z
DTSTART:20260424T210000Z
DTEND:20260425T000000Z
LOCATION:55 Vanderbilt Parkway, Dix Hills, NY 11746, United States
ROOM: Main Street Meeting Room 223 (Podcast Room)
DESCRIPTION:AP Seminar practice
URL:https://www.hhhlibrary.org/event/ap-seminar-imp-155185
END:VEVENT
END:VCALENDAR
