BEGIN:VCALENDAR
VERSION:2.0
PRODID:-//Library Market//iCal Export//EN
BEGIN:VEVENT
SUMMARY:Virtual Meeting - Armandeep
UID:155188
DTSTAMP:20260421T131900Z
DTSTART:20260420T203000Z
DTEND:20260420T233000Z
LOCATION:510 Sweet Hollow Road, Melville, NY 11747, United States
ROOM: Branch at Melville Meeting Room
DESCRIPTION:Online
URL:https://www.hhhlibrary.org/event/meetings-155188
END:VEVENT
END:VCALENDAR
