BEGIN:VCALENDAR
VERSION:2.0
PRODID:-//Library Market//iCal Export//EN
BEGIN:VEVENT
SUMMARY:Entrepreneurship Meeting
UID:155195
DTSTAMP:20260421T131900Z
DTSTART:20260422T231500Z
DTEND:20260423T003000Z
LOCATION:55 Vanderbilt Parkway, Dix Hills, NY 11746, United States
ROOM: Multipurpose Room 214
DESCRIPTION:Meeting to discuss NYS certification for MWBE and 2026 entrepr
 eneurship goals
URL:https://www.hhhlibrary.org/event/entrepreneurship-meeting-155195
END:VEVENT
END:VCALENDAR
