BEGIN:VCALENDAR
VERSION:2.0
PRODID:-//Library Market//iCal Export//EN
BEGIN:VEVENT
SUMMARY:APUSH Study Group - Cate
UID:155203
DTSTAMP:20260421T184700Z
DTSTART:20260504T203000Z
DTEND:20260504T233000Z
LOCATION:55 Vanderbilt Parkway, Dix Hills, NY 11746, United States
ROOM: Main Street Meeting Room 223 (Podcast Room)
DESCRIPTION:Study group
URL:https://www.hhhlibrary.org/event/apush-study-group-155203
END:VEVENT
END:VCALENDAR
